BEGIN:VCALENDAR
VERSION:2.0
PRODID:Events Booking
BEGIN:VEVENT
UID:69e7517e73f25
SUMMARY:Project Managers Networking Event in Luzern (April 2026)
DESCRIPTION:Would you like to network and enjoy drinks with other project m
 anagers and like-minded professionals?Join us in a relaxed atmosphere at t
 he PM Networking Evening in Lucerne!- Non-PMI associated buddies\, partner
 s and kids are welcome- No PDUs- Everybody pays for their own consumption
LOCATION:Blumenweg 1\, 6003 Luzern
DTSTART:20260430T160000Z
DTEND:20260430T190000Z
DTSTAMP:20260403T004639Z
ORGANIZER;CN=PMI Switzerland Events Team:MAILTO:no-reply@pmi-switzerland.ch
GEO:47.049885;8.306614
X-APPLE-STRUCTURED-LOCATION;VALUE=URI;X-ADDRESS=Blumenweg 1\, 6003 Luzern;X
 -APPLE-RADIUS=72;X-TITLE=just a little brew pub:47.049885;8.306614
END:VEVENT
END:VCALENDAR