BEGIN:VCALENDAR
VERSION:2.0
PRODID:Events Booking
BEGIN:VEVENT
UID:69e73f46719fb
SUMMARY:Volunteers Dinner in Geneva
DESCRIPTION:Geneva Volunteers Dinner
 This event is reserved for our volun
 teers.&nbsp\;
LOCATION:Rue de Richemont 7\, 1202 Genève
DTSTART:20260204T173000Z
DTEND:20260204T203000Z
DTSTAMP:20260108T100556Z
ORGANIZER;CN=PMI Switzerland Events Team:MAILTO:no-reply@pmi-switzerland.ch
GEO:46.214423;6.147544
X-APPLE-STRUCTURED-LOCATION;VALUE=URI;X-ADDRESS=Rue de Richemont 7\, 1202 G
 enève;X-APPLE-RADIUS=72;X-TITLE=El Catrin (Geneva):46.214423;6.147544
END:VEVENT
END:VCALENDAR