BEGIN:VCALENDAR
VERSION:2.0
PRODID:Events Booking
BEGIN:VEVENT
UID:69e754836c4eb
SUMMARY:Business Networking: Make it Your Own Project!
DESCRIPTION:Stop leaving networking to chance—start treating it as your m
 ost valuable professional project! 
LOCATION:Lagerstrasse 5\, 8005 Zürich
DTSTART:20260129T173000Z
DTEND:20260129T200000Z
DTSTAMP:20251117T183912Z
ORGANIZER;CN=PMI Switzerland Events Team:MAILTO:no-reply@pmi-switzerland.ch
GEO:47.376924;8.534069
X-APPLE-STRUCTURED-LOCATION;VALUE=URI;X-ADDRESS=Lagerstrasse 5\, 8005 Züri
 ch;X-APPLE-RADIUS=72;X-TITLE=HWZ Hochschule - Zürich:47.376924;8.534069
END:VEVENT
END:VCALENDAR