BEGIN:VCALENDAR
VERSION:2.0
PRODID:Events Booking
BEGIN:VEVENT
UID:69e600c81dede
SUMMARY:Leadership Under Pressure: Project Managers Skills for High-Stake S
 ituations
DESCRIPTION:Learn how to handle difficult conversations\, stakeholder tensi
 ons and perform more effectively under pressure.
 Join a 75-minute intera
 ctive session by Catherine Peloquin to learn practical tools for communica
 tions clarity and better influence.
LOCATION:Centralbahnplatz\, Basel\, 4002 Basel-City\, Switzerland
DTSTART:20260127T170000Z
DTEND:20260127T200000Z
DTSTAMP:20251204T061741Z
ORGANIZER;CN=PMI Switzerland Events Team:MAILTO:no-reply@pmi-switzerland.ch
GEO:47.548696;7.590003
X-APPLE-STRUCTURED-LOCATION;VALUE=URI;X-ADDRESS=Centralbahnplatz\, Basel\, 
 4002 Basel-City\, Switzerland;X-APPLE-RADIUS=72;X-TITLE=Hotel Euler (Basel
 ):47.548696;7.590003
END:VEVENT
END:VCALENDAR